BEGIN:VCALENDAR
VERSION:2.0
PRODID:-//pretix//pretix.eu//
BEGIN:VTIMEZONE
TZID:Europe/Berlin
BEGIN:STANDARD
DTSTART:20001029T040000
RRULE:FREQ=YEARLY;BYDAY=-1SU;BYMONTH=10
TZNAME:CET
TZOFFSETFROM:+0200
TZOFFSETTO:+0100
END:STANDARD
BEGIN:DAYLIGHT
DTSTART:20000326T030000
RRULE:FREQ=YEARLY;BYDAY=-1SU;BYMONTH=3
TZNAME:CEST
TZOFFSETFROM:+0100
TZOFFSETTO:+0200
END:DAYLIGHT
END:VTIMEZONE
BEGIN:VEVENT
UID:pretix-spevents-7wt9d-0@spevents.fairetickets.de
DTSTART;TZID=Europe/Berlin:20210828T193000
DTEND;TZID=Europe/Berlin:20210828T203000
DESCRIPTION:Tickets: https://spevents.fairetickets.de/7wt9d/\nEinlass: 28.0
 8.2021 18:30\nVeranstalter: SP Events
DTSTAMP:20260420T200136Z
LOCATION:Tonwerk Dorfen\, Orlfing 1\, 84405 Dorfen
SUMMARY:XX Simon Pearce - „Pea®ce on Earth" (Open Air - Tonwerk Kultur-S
 ommer / Dorfen)
END:VEVENT
END:VCALENDAR
