BEGIN:VCALENDAR
VERSION:2.0
PRODID:-//pretix//pretix.eu//
BEGIN:VTIMEZONE
TZID:Europe/Berlin
BEGIN:STANDARD
DTSTART:20001029T040000
RRULE:FREQ=YEARLY;BYDAY=-1SU;BYMONTH=10
TZNAME:CET
TZOFFSETFROM:+0200
TZOFFSETTO:+0100
END:STANDARD
BEGIN:DAYLIGHT
DTSTART:20000326T030000
RRULE:FREQ=YEARLY;BYDAY=-1SU;BYMONTH=3
TZNAME:CEST
TZOFFSETFROM:+0100
TZOFFSETTO:+0200
END:DAYLIGHT
END:VTIMEZONE
BEGIN:VEVENT
UID:pretix-spevents-mylww-0@spevents.fairetickets.de
DTSTART;TZID=Europe/Berlin:20210616T200000
DTEND;TZID=Europe/Berlin:20210616T210000
DESCRIPTION:Tickets: https://spevents.fairetickets.de/mylww/\nEinlass: 16.0
 6.2021 19:00\nVeranstalter: SP Events
DTSTAMP:20260421T014917Z
LOCATION:Tonwerk Dorfen\, Orlfing 1\, 84405 Dorfen
SUMMARY:XX Frank-Markus Barwasser als Erwin Pelzig - Der wunde Punkt (Open 
 Air - Tonwerk Kultur-Sommer / Dorfen)
END:VEVENT
END:VCALENDAR
