BEGIN:VCALENDAR
VERSION:2.0
PRODID:-//pretix//pretix.eu//
BEGIN:VTIMEZONE
TZID:Europe/Berlin
BEGIN:STANDARD
DTSTART:20001029T040000
RRULE:FREQ=YEARLY;BYDAY=-1SU;BYMONTH=10
TZNAME:CET
TZOFFSETFROM:+0200
TZOFFSETTO:+0100
END:STANDARD
BEGIN:DAYLIGHT
DTSTART:20000326T030000
RRULE:FREQ=YEARLY;BYDAY=-1SU;BYMONTH=3
TZNAME:CEST
TZOFFSETFROM:+0100
TZOFFSETTO:+0200
END:DAYLIGHT
END:VTIMEZONE
BEGIN:VEVENT
UID:pretix-spevents-t8acp-0@spevents.fairetickets.de
DTSTART;TZID=Europe/Berlin:20210815T190000
DTEND;TZID=Europe/Berlin:20210815T200000
DESCRIPTION:Tickets: https://spevents.fairetickets.de/t8acp/\nEinlass: 15.0
 8.2021 18:00\nVeranstalter: SP Events
DTSTAMP:20260420T214739Z
LOCATION:Tonwerk Dorfen\, Orlfing 1\, 84405 Dorfen
SUMMARY:XX Cassandra Steen Trio - "Cassandra Steen LIVE" (Open Air - Tonwer
 k Kultur-Sommer / Dorfen)
END:VEVENT
END:VCALENDAR
