BEGIN:VCALENDAR
VERSION:2.0
PRODID:-//pretix//pretix.eu//
BEGIN:VTIMEZONE
TZID:Europe/Berlin
BEGIN:STANDARD
DTSTART:20001029T040000
RRULE:FREQ=YEARLY;BYDAY=-1SU;BYMONTH=10
TZNAME:CET
TZOFFSETFROM:+0200
TZOFFSETTO:+0100
END:STANDARD
BEGIN:DAYLIGHT
DTSTART:20000326T030000
RRULE:FREQ=YEARLY;BYDAY=-1SU;BYMONTH=3
TZNAME:CEST
TZOFFSETFROM:+0100
TZOFFSETTO:+0200
END:DAYLIGHT
END:VTIMEZONE
BEGIN:VEVENT
UID:pretix-spevents-w8lug-0@spevents.fairetickets.de
DTSTART;TZID=Europe/Berlin:20210912T170000
DTEND;TZID=Europe/Berlin:20210912T180000
DESCRIPTION:Tickets: https://spevents.fairetickets.de/w8lug/\nEinlass: 12.0
 9.2021 15:00\nVeranstalter: SP Events
DTSTAMP:20260420T180648Z
LOCATION:Landgasthof Vogelsang\, Bahnhofstraße 24\, 86706 Weichering
SUMMARY:XX AUSFALL: Susi & die Spiesser (Open-Air im Biergarten des Landgas
 thof Vogelsang / Weichering)
END:VEVENT
END:VCALENDAR
